Workbook
Name OLE_LINK1: '記入要領（職務経歴書）'!$A$1

Sheet 【入力①】身上申立書（様式１）
K1: （様式１）
A2: 身 上 申 立 書
K3: №1
A4: 令和8年9月現在 | H4: 整理番号 （※厚生局記入欄）
A5: ふりがな | G5: （性別） | H5: 画像データ貼付欄
A6: 氏 名
A7: 受験番号
A8: 第1次選考試験地
A9: 生年月日 | G9: （満年齢）
G10: =DATEDIF(B9,TODAY(),"Y") -> 126
A11: 住所 | B11: 〒
A13: 電話番号
A14: メールアドレス
A17: ※職歴及び資格は「職務経歴書」（様式２）に記載してください。
A18: 年 | B18: 月 | C18: 学歴
V19: =A19&B19&" "&C19
V20: =A20&B20&" "&C20
V21: =A21&B21&" "&C21
V22: =A22&B22&" "&C22
V23: =A23&B23&" "&C23
V24: =A24&B24&" "&C24
A27: 趣味・特技
A28: 健康状態 | U28: １．うまく操作できる
A29: Excel、Word等の 技能 | U29: ２．ふつうに操作できる
U30: ３．まったく操作できない（操作したことがない）
I33: =B5 -> 0 | K33: №2
H34: 氏名 | I34: =IF(B6="","",B6)
A36: 今までに達成したことの中で最も大きなこと及び達成するために行ったこと
A38: 自覚している性格
A40: 東北厚生局（厚生行政）を志望する理由
A42: 選考試験（就職氷河期）での志望官庁、部局 | G42: 訪問状況
A43: 第１志望
A44: 第２志望
A45: 第３志望
A47: これまで培ったスキルを、東北厚生局でどのように活かせるか
A49: 採用後に取り組んでみたい分野
A51: ※この身上申立書は、採用活動以外の目的には使用いたしません。

Sheet 【入力②】職務経歴書（様式２）
A1: 職務経歴書 | O1: （様式２）
Q2: 採用希望区分 | R2: 年齢基準日 | S2: 労働時間数
B3: ※ | C3: 令和８年9月30日までの経歴を記載 | Q3: 一般行政事務 | R3: 44287 | S3: 30時間以上 | T3: 1 | U3: 正規の修学年数
B4: ※ | C4: 同一月に複数の職務経験がある場合は、１週間あたりの勤務時間数が多い方の職歴を記載 | Q4: 情報セキュリティ・ＩＴ等関係事務 | S4: 20時間以上30時間未満 | T4: 0.8 | U4: 正規の修学年数外
K5: 整理番号（※事務記入欄） | S5: 20時間未満 | T5: 0.5 | U5: 就業（アルバイト含む）
U6: 無職
K7: 採用希望区分 | M7: 一般行政事務
K9: ふりがな | M9: ='【入力①】身上申立書（様式１）'!B5 -> 0
K10: 氏 名 | M10: ='【入力①】身上申立書（様式１）'!B6 -> 0
A12: ◆ 職務経歴を以下に記載してください。
A13: 合計 | D13: =IF(SUM(D15:D29)=0,"",(SUM(D15:D29))) | E13: =IF(D13="","",ROUNDDOWN(D13/12,0)) | F13: - | G13: =IF(D13="","",D13-(E13*12)) | P13: 合計 | Q13: =IF(SUM(Q15:Q29)=0,"",(SUM(Q15:Q29))) | R13: =IF(Q13="","",ROUNDDOWN(Q13/12,0)) | S13: - | T13: =IF(Q13="","",Q13-(R13*12))
A14: 期 間 | D14: 月数 | E14: 年月数 | H14: 区分 | I14: 勤務先名称 | J14: 業務内容（担当業務の詳細、実績等）、ポジション（職位、部下の数等） | N14: 業務区分 | O14: 勤務時間数 （１週間あたり）
B15: ～ | D15: =IF(C15="","",DATEDIF(A15,C15,"M")+1) | E15: =IF(D15="","",ROUNDDOWN(D15/12,0)) | F15: - | G15: =IF(D15="","",D15-(E15*12)) | O15: =IF(H15=$U$3,$S$3,IF(H15=$U$5,"",IF(OR(H15=$U$3,H15=$U$6,H15=$U$4),$S$5,""))) | Q15: =IFERROR(D15*INDEX(T:T,MATCH(O15,S:S,0)),"") | R15: =IF(Q15="","",ROUNDDOWN(Q15/12,0)) | S15: - | T15: =IF(Q15="","",Q15-(R15*12))
B16: ～ | D16: =IF(C16="","",DATEDIF(A16,C16,"M")+1) | E16: =IF(D16="","",ROUNDDOWN(D16/12,0)) | F16: - | G16: =IF(D16="","",D16-(E16*12)) | O16: =IF(H16=$U$3,$S$3,IF(H16=$U$5,"",IF(OR(H16=$U$3,H16=$U$6,H16=$U$4),$S$5,""))) | Q16: =IFERROR(D16*INDEX(T:T,MATCH(O16,S:S,0)),"") | R16: =IF(Q16="","",ROUNDDOWN(Q16/12,0)) | S16: - | T16: =IF(Q16="","",Q16-(R16*12))
B17: ～ | D17: =IF(C17="","",DATEDIF(A17,C17,"M")+1) | E17: =IF(D17="","",ROUNDDOWN(D17/12,0)) | F17: - | G17: =IF(D17="","",D17-(E17*12)) | Q17: =IFERROR(D17*INDEX(T:T,MATCH(O17,S:S,0)),"") | R17: =IF(Q17="","",ROUNDDOWN(Q17/12,0)) | S17: - | T17: =IF(Q17="","",Q17-(R17*12))
B18: ～ | D18: =IF(C18="","",DATEDIF(A18,C18,"M")+1) | E18: =IF(D18="","",ROUNDDOWN(D18/12,0)) | F18: - | G18: =IF(D18="","",D18-(E18*12)) | O18: =IF(H18=$U$3,$S$3,IF(H18=$U$5,"",IF(OR(H18=$U$3,H18=$U$6,H18=$U$4),$S$5,""))) | Q18: =IFERROR(D18*INDEX(T:T,MATCH(O18,S:S,0)),"") | R18: =IF(Q18="","",ROUNDDOWN(Q18/12,0)) | S18: - | T18: =IF(Q18="","",Q18-(R18*12))
B19: ～ | D19: =IF(C19="","",DATEDIF(A19,C19,"M")+1) | E19: =IF(D19="","",ROUNDDOWN(D19/12,0)) | F19: - | G19: =IF(D19="","",D19-(E19*12)) | O19: =IF(H19=$U$3,$S$3,IF(H19=$U$5,"",IF(OR(H19=$U$3,H19=$U$6,H19=$U$4),$S$5,""))) | Q19: =IFERROR(D19*INDEX(T:T,MATCH(O19,S:S,0)),"") | R19: =IF(Q19="","",ROUNDDOWN(Q19/12,0)) | S19: - | T19: =IF(Q19="","",Q19-(R19*12))
B20: ～ | D20: =IF(C20="","",DATEDIF(A20,C20,"M")+1) | E20: =IF(D20="","",ROUNDDOWN(D20/12,0)) | F20: - | G20: =IF(D20="","",D20-(E20*12)) | O20: =IF(H20=$U$3,$S$3,IF(H20=$U$5,"",IF(OR(H20=$U$3,H20=$U$6,H20=$U$4),$S$5,""))) | Q20: =IFERROR(D20*INDEX(T:T,MATCH(O20,S:S,0)),"") | R20: =IF(Q20="","",ROUNDDOWN(Q20/12,0)) | S20: - | T20: =IF(Q20="","",Q20-(R20*12))
B21: ～ | D21: =IF(C21="","",DATEDIF(A21,C21,"M")+1) | E21: =IF(D21="","",ROUNDDOWN(D21/12,0)) | F21: - | G21: =IF(D21="","",D21-(E21*12)) | O21: =IF(H21=$U$3,$S$3,IF(H21=$U$5,"",IF(OR(H21=$U$3,H21=$U$6,H21=$U$4),$S$5,""))) | Q21: =IFERROR(D21*INDEX(T:T,MATCH(O21,S:S,0)),"") | R21: =IF(Q21="","",ROUNDDOWN(Q21/12,0)) | S21: - | T21: =IF(Q21="","",Q21-(R21*12))
B22: ～ | D22: =IF(C22="","",DATEDIF(A22,C22,"M")+1) | E22: =IF(D22="","",ROUNDDOWN(D22/12,0)) | F22: - | G22: =IF(D22="","",D22-(E22*12)) | O22: =IF(H22=$U$3,$S$3,IF(H22=$U$5,"",IF(OR(H22=$U$3,H22=$U$6,H22=$U$4),$S$5,""))) | Q22: =IFERROR(D22*INDEX(T:T,MATCH(O22,S:S,0)),"") | R22: =IF(Q22="","",ROUNDDOWN(Q22/12,0)) | S22: - | T22: =IF(Q22="","",Q22-(R22*12))
B23: ～ | D23: =IF(C23="","",DATEDIF(A23,C23,"M")+1) | E23: =IF(D23="","",ROUNDDOWN(D23/12,0)) | F23: - | G23: =IF(D23="","",D23-(E23*12)) | O23: =IF(H23=$U$3,$S$3,IF(H23=$U$5,"",IF(OR(H23=$U$3,H23=$U$6,H23=$U$4),$S$5,""))) | Q23: =IFERROR(D23*INDEX(T:T,MATCH(O23,S:S,0)),"") | R23: =IF(Q23="","",ROUNDDOWN(Q23/12,0)) | S23: - | T23: =IF(Q23="","",Q23-(R23*12))
B24: ～ | D24: =IF(C24="","",DATEDIF(A24,C24,"M")+1) | E24: =IF(D24="","",ROUNDDOWN(D24/12,0)) | F24: - | G24: =IF(D24="","",D24-(E24*12)) | O24: =IF(H24=$U$3,$S$3,IF(H24=$U$5,"",IF(OR(H24=$U$3,H24=$U$6,H24=$U$4),$S$5,""))) | Q24: =IFERROR(D24*INDEX(T:T,MATCH(O24,S:S,0)),"") | R24: =IF(Q24="","",ROUNDDOWN(Q24/12,0)) | S24: - | T24: =IF(Q24="","",Q24-(R24*12))
B25: ～ | D25: =IF(C25="","",DATEDIF(A25,C25,"M")+1) | E25: =IF(D25="","",ROUNDDOWN(D25/12,0)) | F25: - | G25: =IF(D25="","",D25-(E25*12)) | O25: =IF(H25=$U$3,$S$3,IF(H25=$U$5,"",IF(OR(H25=$U$3,H25=$U$6,H25=$U$4),$S$5,""))) | Q25: =IFERROR(D25*INDEX(T:T,MATCH(O25,S:S,0)),"") | R25: =IF(Q25="","",ROUNDDOWN(Q25/12,0)) | S25: - | T25: =IF(Q25="","",Q25-(R25*12))
B26: ～ | D26: =IF(C26="","",DATEDIF(A26,C26,"M")+1) | E26: =IF(D26="","",ROUNDDOWN(D26/12,0)) | F26: - | G26: =IF(D26="","",D26-(E26*12)) | O26: =IF(H26=$U$3,$S$3,IF(H26=$U$5,"",IF(OR(H26=$U$3,H26=$U$6,H26=$U$4),$S$5,""))) | Q26: =IFERROR(D26*INDEX(T:T,MATCH(O26,S:S,0)),"") | R26: =IF(Q26="","",ROUNDDOWN(Q26/12,0)) | S26: - | T26: =IF(Q26="","",Q26-(R26*12))
B27: ～ | D27: =IF(C27="","",DATEDIF(A27,C27,"M")+1) | E27: =IF(D27="","",ROUNDDOWN(D27/12,0)) | F27: - | G27: =IF(D27="","",D27-(E27*12)) | O27: =IF(H27=$U$3,$S$3,IF(H27=$U$5,"",IF(OR(H27=$U$3,H27=$U$6,H27=$U$4),$S$5,""))) | Q27: =IFERROR(D27*INDEX(T:T,MATCH(O27,S:S,0)),"") | R27: =IF(Q27="","",ROUNDDOWN(Q27/12,0)) | S27: - | T27: =IF(Q27="","",Q27-(R27*12))
B28: ～ | D28: =IF(C28="","",DATEDIF(A28,C28,"M")+1) | E28: =IF(D28="","",ROUNDDOWN(D28/12,0)) | F28: - | G28: =IF(D28="","",D28-(E28*12)) | O28: =IF(H28=$U$3,$S$3,IF(H28=$U$5,"",IF(OR(H28=$U$3,H28=$U$6,H28=$U$4),$S$5,""))) | Q28: =IFERROR(D28*INDEX(T:T,MATCH(O28,S:S,0)),"") | R28: =IF(Q28="","",ROUNDDOWN(Q28/12,0)) | S28: - | T28: =IF(Q28="","",Q28-(R28*12))
B29: ～ | D29: =IF(C29="","",DATEDIF(A29,C29,"M")+1) | E29: =IF(D29="","",ROUNDDOWN(D29/12,0)) | F29: - | G29: =IF(D29="","",D29-(E29*12)) | O29: =IF(H29=$U$3,$S$3,IF(H29=$U$5,"",IF(OR(H29=$U$3,H29=$U$6,H29=$U$4),$S$5,""))) | Q29: =IFERROR(D29*INDEX(T:T,MATCH(O29,S:S,0)),"") | R29: =IF(Q29="","",ROUNDDOWN(Q29/12,0)) | S29: - | T29: =IF(Q29="","",Q29-(R29*12))
A31: ◆ 取得した資格があれば、以下に記載してください。
A32: 取得年月日 | D32: 資格

Sheet 【入力③】面接希望日について
B2: 採用面接の希望日を表の太枠内に入力してください。
B3: （10月29日、10月30日、10月31日から選んでください。）
B4: なお、希望日が集中した場合、ご希望以外の日をご案内する場合があります。
C5: 入力欄（太枠）
A6: 入力欄 | B6: 第１希望日
A7: 入力欄 | B7: 第２希望日
A8: 入力欄 | B8: 連絡事項 （任意）
B9: 氏名 | C9: ='【入力①】身上申立書（様式１）'!B6 -> 0
B10: 受験番号 | C10: ='【入力①】身上申立書（様式１）'!B7 -> 0
B11: 第1次選考試験地 | C11: ='【入力①】身上申立書（様式１）'!B8 -> 0

Sheet 記入要領（職務経歴書）
B16: （令和４年度 東北厚生局係長級職員（一般職相当）採用選考）
